Workbook
Name TableAppendixSalesForecast: 'Income Statement'!#REF!
Name TablePlanBodyStartupFunding: 'Balance Sheet'!#REF!

Sheet Dashboard

Sheet Assumptions
A2: Particulars | B2: Year 1 | C2: Year 2 | D2: Year 3 | E2: Year 4 | F2: Year 5
A3: Revenue Growth Rate Monthly | B3: 0.03 | C3: 0.1 | D3: 0.05 | E3: 0.05 | F3: 0.05
A4: Payroll Growth Rate | C4: 0.1 | D4: =C4 -> 0.1 | E4: =D4 -> 0.1 | F4: =E4 -> 0.1
A5: Rent / Lease Growth Rate | C5: 0.03 | D5: =C5 -> 0.03 | E5: =D5 -> 0.03 | F5: =E5 -> 0.03
A6: Marketing Growth Rate | C6: 1 | D6: 0.06 | E6: =D6 -> 0.06 | F6: =E6 -> 0.06
A7: Other Expenses Growth Rate | C7: 1 | D7: =C7 -> 1 | E7: =D7 -> 1 | F7: =E7 -> 1
A8: Income Tax Rate | B8: =21% -> 0.21 | C8: https://taxfoundation.org/location/texas/?utm_term=state%20taxes&utm_campaign=State+Data+Pages&utm_source=adwords&utm_medium=ppc&hs
A12: TOTAL INVESTMENT NEEDED | C12: 10000000
A14: Loan Payable | C14: 0
A15: Equity Invested | C15: =C12-C14 -> 10000000
A18: ASSETS AND DEPRECIATION ASSUMPTIONS
A19: Startup Assets | B19: Mon 1 | C19: Dep. Rate
A20: Metal Fabrication Shop Acquisition | B20: 2000000 | C20: 0.03
A21: R&D Surveillance System | B21: 1500000 | C21: 0.03
A22: Shop Upgrades | B22: 950000 | C22: 0.03
C23: 0.03
C24: 0.03
C25: 0.03
A27: Additional Purchase of Assets | B27: Month | C27: Cost
A28: =IF(A20="","",A20) -> Metal Fabrication Shop Acquisition | B28: Mon 20 | C28: 0
A29: =IF(A21="","",A21) -> R&D Surveillance System | B29: Mon 20 | C29: 0
A30: =IF(A22="","",A22) -> Shop Upgrades | B30: Mon 20 | C30: 0
A31: =IF(A23="","",A23) | B31: Mon 20 | C31: 0
A32: =IF(A24="","",A24) | B32: Mon 20 | C32: 0
A35: Startup Expenses | B35: Cost
A36: Regulatory Compliance & Certifications | B36: 250000
A37: Marketing & Advertising Campaigns | B37: 300000
A38: R&D & Testing | B38: 500000
A39: Payroll Reserves | B39: 300000
A40: Miscellaneous Expenses | B40: 50000
A44: PAYROLL ASSUMPTIONS
C45: Year 1 | D45: Year 2 | E45: Year 3 | F45: Year 4 | G45: Year 5
A46: Name of Employees | B46: Monthly Salary | C46: No. of Personnel | D46: No. of Personnel | E46: No. of Personnel | F46: No. of Personnel | G46: No. of Personnel
A47: Owner / Manager | B47: 0 | C47: 1 | D47: 1 | E47: =D47 -> 1 | F47: =E47 -> 1 | G47: =F47 -> 1
A48: CTO | B48: =346493/12 -> 28874.417 | C48: 1 | D48: 1 | E48: =D48 -> 1 | F48: =E48 -> 1 | G48: =F48 -> 1 | H48: https://www.salary.com/research/salary/benchmark/chief-technology-officer-salary
A49: AI & Software Engineers | B49: =161804/12 -> 13483.667 | C49: 1 | D49: =C49 -> 1 | E49: =D49+1 -> 2 | F49: =E49 -> 2 | G49: =F49 -> 2 | H49: https://www.indeed.com/hire/job-description/ai-engineer
A50: Compliance & Security Lead | B50: =110586/12 -> 9215.5 | C50: 1 | D50: 1 | E50: 1 | F50: 1 | G50: 1 | H50: https://www.glassdoor.com/Salaries/compliance-security-lead-salary-SRCH_KO0,23.htm
A51: Marketing Specialist | B51: =90436/12 -> 7536.3333 | C51: 1 | D51: 1 | E51: 1 | F51: 1 | G51: 1 | H51: https://www.glassdoor.com/Salaries/ai-marketing-specialist-salary-SRCH_KO0%2C23.htm
A52: Admin Staff | B52: =46010/12 -> 3834.1667 | C52: 2 | D52: 2 | E52: 2 | F52: 2 | G52: 2 | H52: bls.gov/ooh/office-and-administrative-support/secretaries-and-administrative-assistants.htm?utm_so
A53: Manufacturing Technicians | B53: =49898/12 -> 4158.1667 | C53: 3 | D53: 5 | E53: 5 | F53: 6 | G53: 7 | H53: salary.com/research/salary/listing/manufacturing-technician-salary?utm_source=
...

Sheet AR & AP
A2: Cash Sales Percentage | B2: 0.8
A3: Credit Sales Percentage | B3: =1-B2 -> 0.2
A4: Credit Received in | B4: 2 | C4: months
A6: Accounts Receivable Schedule | B6: Mon 1 | C6: Mon 2 | D6: Mon 3 | E6: Mon 4 | F6: Mon 5 | G6: Mon 6 | H6: Mon 7 | I6: Mon 8 | J6: Mon 9 | K6: Mon 10 | L6: Mon 11 | M6: Mon 12 | N6: Mon 13 | O6: Mon 14 | P6: Mon 15 | Q6: Mon 16 | R6: Mon 17 | S6: Mon 18 | T6: Mon 19 | U6: Mon 20 | V6: Mon 21 | W6: Mon 22 | X6: Mon 23 | Y6: Mon 24 | Z6: Mon 25 | AA6: Mon 26 | AB6: Mon 27 | AC6: Mon 28 | AD6: Mon 29 | AE6: Mon 30 | AF6: Mon 31 | AG6: Mon 32 | AH6: Mon 33 | AI6: Mon 34 | AJ6: Mon 35 | AK6: Mon 36 | AL6: Mon 37 | AM6: Mon 38 | AN6: Mon 39 | AO6: Mon 40 | AP6: Mon 41 | AQ6: Mon 42 | AR6: Mon 43 | AS6: Mon 44 | AT6: Mon 45 | AU6: Mon 46 | AV6: Mon 47 | AW6: Mon 48 | AX6: Mon 49 | AY6: Mon 50 | AZ6: Mon 51 | BA6: Mon 52 | BB6: Mon 53 | BC6: Mon 54 | BD6: Mon 55 | BE6: Mon 56 | BF6: Mon 57 | BG6: Mon 58 | BH6: Mon 59 | BI6: Mon 60
A7: Total Sales | B7: ='Revenue Forecasts'!B6 -> 262500 | C7: ='Revenue Forecasts'!C6 -> 270375 | D7: ='Revenue Forecasts'!D6 -> 278486.25 | E7: ='Revenue Forecasts'!E6 -> 286840.84 | F7: ='Revenue Forecasts'!F6 -> 295446.06 | G7: ='Revenue Forecasts'!G6 -> 304309.44 | H7: ='Revenue Forecasts'!H6 -> 313438.73 | I7: ='Revenue Forecasts'!I6 -> 322841.89 | ... BJ7: ='Revenue Forecasts'!BJ6 -> 0
A9: Cash Sales | B9: =B7*$B$2 -> 210000 | C9: =C7*$B$2 -> 216300 | D9: =D7*$B$2 -> 222789 | E9: =E7*$B$2 -> 229472.67 | F9: =F7*$B$2 -> 236356.85 | G9: =G7*$B$2 -> 243447.56 | H9: =H7*$B$2 -> 250750.98 | I9: =I7*$B$2 -> 258273.51 | ... BI9: =BI7*$B$2 -> 6936386.9
A11: Credit Sales | B11: =B7*$B$3 -> 52500 | C11: =C7*$B$3 -> 54075 | D11: =D7*$B$3 -> 55697.25 | E11: =E7*$B$3 -> 57368.167 | F11: =F7*$B$3 -> 59089.213 | G11: =G7*$B$3 -> 60861.889 | H11: =H7*$B$3 -> 62687.746 | I11: =I7*$B$3 -> 64568.378 | ... BI11: =BI7*$B$3 -> 1734096.7
A13: Total Cash Received | B13: =B9 -> 210000 | C13: =C9 -> 216300 | D13: =D9+B11 -> 275289 | E13: =E9+C11 -> 283547.67 | F13: =F9+D11 -> 292054.1 | G13: =G9+E11 -> 300815.72 | H13: =H9+F11 -> 309840.19 | I13: =I9+G11 -> 319135.4 | J13: =J9+H11 -> 328709.46 | K13: =K9+I11 -> 338570.75 | ... BI13: =BI9+BG11 -> 8509263.8
A15: Accounts Receivable | B15: =B11 -> 52500 | C15: =B15+C11 -> 106575 | D15: =C15+D11-B11 -> 109772.25 | E15: =D15+E11-C11 -> 113065.42 | F15: =E15+F11-D11 -> 116457.38 | G15: =F15+G11-E11 -> 119951.1 | H15: =G15+H11-F11 -> 123549.63 | I15: =H15+I11-G11 -> 127256.12 | J15: =I15+J11-H11 -> 131073.81 | K15: =J15+K11-I11 -> 135006.02 | ... BI15: =BH15+BI11-BG11 -> 3385617.4

Sheet Depreciation
B2: Cost of Assets | C2: Mon 1 | D2: Mon 2 | E2: Mon 3 | F2: Mon 4 | G2: Mon 5 | H2: Mon 6 | I2: Mon 7 | J2: Mon 8 | K2: Mon 9 | L2: Mon 10 | M2: Mon 11 | N2: Mon 12 | O2: Mon 13 | P2: Mon 14 | Q2: Mon 15 | R2: Mon 16 | S2: Mon 17 | T2: Mon 18 | U2: Mon 19 | V2: Mon 20 | W2: Mon 21 | X2: Mon 22 | Y2: Mon 23 | Z2: Mon 24 | AA2: Mon 25 | AB2: Mon 26 | AC2: Mon 27 | AD2: Mon 28 | AE2: Mon 29 | AF2: Mon 30 | AG2: Mon 31 | AH2: Mon 32 | AI2: Mon 33 | AJ2: Mon 34 | AK2: Mon 35 | AL2: Mon 36 | AM2: Mon 37 | AN2: Mon 38 | AO2: Mon 39 | AP2: Mon 40 | AQ2: Mon 41 | AR2: Mon 42 | AS2: Mon 43 | AT2: Mon 44 | AU2: Mon 45 | AV2: Mon 46 | AW2: Mon 47 | AX2: Mon 48 | AY2: Mon 49 | AZ2: Mon 50 | BA2: Mon 51 | BB2: Mon 52 | BC2: Mon 53 | BD2: Mon 54 | BE2: Mon 55 | BF2: Mon 56 | BG2: Mon 57 | BH2: Mon 58 | BI2: Mon 59 | BJ2: Mon 60
B3: =Assumptions!A28 -> Metal Fabrication Shop Acquisition | C3: =Assumptions!B20 -> 2000000 | D3: =C3 -> 2000000 | E3: =D3 -> 2000000 | F3: =E3 -> 2000000 | G3: =F3 -> 2000000 | H3: =G3 -> 2000000 | I3: =H3 -> 2000000 | J3: =I3 -> 2000000 | K3: =J3 -> 2000000 | ... BJ3: =BI3 -> 2000000
B4: =Assumptions!A29 -> R&D Surveillance System | C4: =Assumptions!B21 -> 1500000 | D4: =C4 -> 1500000 | E4: =D4 -> 1500000 | F4: =E4 -> 1500000 | G4: =F4 -> 1500000 | H4: =G4 -> 1500000 | I4: =H4 -> 1500000 | J4: =I4 -> 1500000 | K4: =J4 -> 1500000 | ... BJ4: =BI4 -> 1500000
B5: =Assumptions!A30 -> Shop Upgrades | C5: =Assumptions!B22 -> 950000 | D5: =C5 -> 950000 | E5: =D5 -> 950000 | F5: =E5 -> 950000 | G5: =F5 -> 950000 | H5: =G5 -> 950000 | I5: =H5 -> 950000 | J5: =I5 -> 950000 | K5: =J5 -> 950000 | ... BJ5: =BI5 -> 950000
B6: =Assumptions!A31 | C6: =Assumptions!B23 -> 0 | D6: =C6 -> 0 | E6: =D6 -> 0 | F6: =E6 -> 0 | G6: =F6 -> 0 | H6: =G6 -> 0 | I6: =H6 -> 0 | J6: =I6 -> 0 | K6: =J6 -> 0 | ... BJ6: =BI6 -> 0
B7: =Assumptions!A32 | C7: =Assumptions!B24 -> 0 | D7: =C7 -> 0 | E7: =D7 -> 0 | F7: =E7 -> 0 | G7: =F7 -> 0 | H7: =G7 -> 0 | I7: =H7 -> 0 | J7: =I7 -> 0 | K7: =J7 -> 0 | ... BJ7: =BI7 -> 0
C8: =Assumptions!B25 -> 0 | D8: =C8 -> 0 | E8: =D8 -> 0 | F8: =E8 -> 0 | G8: =F8 -> 0 | H8: =G8 -> 0 | I8: =H8 -> 0 | J8: =I8 -> 0 | K8: =J8 -> 0 | ... BJ8: =BI8 -> 0
B9: Total | C9: =SUM(C3:C8) -> 4450000 | D9: =SUM(D3:D8) -> 4450000 | E9: =SUM(E3:E8) -> 4450000 | F9: =SUM(F3:F8) -> 4450000 | G9: =SUM(G3:G8) -> 4450000 | H9: =SUM(H3:H8) -> 4450000 | I9: =SUM(I3:I8) -> 4450000 | J9: =SUM(J3:J8) -> 4450000 | ... BJ9: =SUM(BJ3:BJ8) -> 4450000
B12: Assets Purchase Schedule | C12: Mon 1 | D12: Mon 2 | E12: Mon 3 | F12: Mon 4 | G12: Mon 5 | H12: Mon 6 | I12: Mon 7 | J12: Mon 8 | K12: Mon 9 | L12: Mon 10 | M12: Mon 11 | N12: Mon 12 | O12: Mon 13 | P12: Mon 14 | Q12: Mon 15 | R12: Mon 16 | S12: Mon 17 | T12: Mon 18 | U12: Mon 19 | V12: Mon 20 | W12: Mon 21 | X12: Mon 22 | Y12: Mon 23 | Z12: Mon 24 | AA12: Mon 25 | AB12: Mon 26 | AC12: Mon 27 | AD12: Mon 28 | AE12: Mon 29 | AF12: Mon 30 | AG12: Mon 31 | AH12: Mon 32 | AI12: Mon 33 | AJ12: Mon 34 | AK12: Mon 35 | AL12: Mon 36 | AM12: Mon 37 | AN12: Mon 38 | AO12: Mon 39 | AP12: Mon 40 | AQ12: Mon 41 | AR12: Mon 42 | AS12: Mon 43 | AT12: Mon 44 | AU12: Mon 45 | AV12: Mon 46 | AW12: Mon 47 | AX12: Mon 48 | AY12: Mon 49 | AZ12: Mon 50 | BA12: Mon 51 | BB12: Mon 52 | BC12: Mon 53 | BD12: Mon 54 | BE12: Mon 55 | BF12: Mon 56 | BG12: Mon 57 | BH12: Mon 58 | BI12: Mon 59 | BJ12: Mon 60
B13: =B3 -> Metal Fabrication Shop Acquisition | C13: =IFERROR(VLOOKUP(C$12,Assumptions!$B$28:$C$28,2,FALSE),0) -> 0 | D13: =IFERROR(VLOOKUP(D$12,Assumptions!$B$28:$C$28,2,FALSE),0) -> 0 | E13: =IFERROR(VLOOKUP(E$12,Assumptions!$B$28:$C$28,2,FALSE),0) -> 0 | F13: =IFERROR(VLOOKUP(F$12,Assumptions!$B$28:$C$28,2,FALSE),0) -> 0 | G13: =IFERROR(VLOOKUP(G$12,Assumptions!$B$28:$C$28,2,FALSE),0) -> 0 | H13: =IFERROR(VLOOKUP(H$12,Assumptions!$B$28:$C$28,2,FALSE),0) -> 0 | I13: =IFERROR(VLOOKUP(I$12,Assumptions!$B$28:$C$28,2,FALSE),0) -> 0 | J13: =IFERROR(VLOOKUP(J$12,Assumptions!$B$28:$C$28,2,FALSE),0) -> 0 | ... BJ13: =IFERROR(VLOOKUP(BJ$12,Assumptions!$B$28:$C$28,2,FALSE),0) -> 0
B14: =B4 -> R&D Surveillance System | C14: =IFERROR(VLOOKUP(C$12,Assumptions!$B$29:$C$29,2,FALSE),0) -> 0 | D14: =IFERROR(VLOOKUP(D$12,Assumptions!$B$29:$C$29,2,FALSE),0) -> 0 | E14: =IFERROR(VLOOKUP(E$12,Assumptions!$B$29:$C$29,2,FALSE),0) -> 0 | F14: =IFERROR(VLOOKUP(F$12,Assumptions!$B$29:$C$29,2,FALSE),0) -> 0 | G14: =IFERROR(VLOOKUP(G$12,Assumptions!$B$29:$C$29,2,FALSE),0) -> 0 | H14: =IFERROR(VLOOKUP(H$12,Assumptions!$B$29:$C$29,2,FALSE),0) -> 0 | I14: =IFERROR(VLOOKUP(I$12,Assumptions!$B$29:$C$29,2,FALSE),0) -> 0 | J14: =IFERROR(VLOOKUP(J$12,Assumptions!$B$29:$C$29,2,FALSE),0) -> 0 | ... BJ14: =IFERROR(VLOOKUP(BJ$12,Assumptions!$B$29:$C$29,2,FALSE),0) -> 0
B15: =B5 -> Shop Upgrades | C15: =IFERROR(VLOOKUP(C$12,Assumptions!$B$30:$C$30,2,FALSE),0) -> 0 | D15: =IFERROR(VLOOKUP(D$12,Assumptions!$B$30:$C$30,2,FALSE),0) -> 0 | E15: =IFERROR(VLOOKUP(E$12,Assumptions!$B$30:$C$30,2,FALSE),0) -> 0 | F15: =IFERROR(VLOOKUP(F$12,Assumptions!$B$30:$C$30,2,FALSE),0) -> 0 | G15: =IFERROR(VLOOKUP(G$12,Assumptions!$B$30:$C$30,2,FALSE),0) -> 0 | H15: =IFERROR(VLOOKUP(H$12,Assumptions!$B$30:$C$30,2,FALSE),0) -> 0 | I15: =IFERROR(VLOOKUP(I$12,Assumptions!$B$30:$C$30,2,FALSE),0) -> 0 | J15: =IFERROR(VLOOKUP(J$12,Assumptions!$B$30:$C$30,2,FALSE),0) -> 0 | ... BJ15: =IFERROR(VLOOKUP(BJ$12,Assumptions!$B$30:$C$30,2,FALSE),0) -> 0
B16: =B6 | C16: =IFERROR(VLOOKUP(C$12,Assumptions!$B$31:$C$31,2,FALSE),0) -> 0 | D16: =IFERROR(VLOOKUP(D$12,Assumptions!$B$31:$C$31,2,FALSE),0) -> 0 | E16: =IFERROR(VLOOKUP(E$12,Assumptions!$B$31:$C$31,2,FALSE),0) -> 0 | F16: =IFERROR(VLOOKUP(F$12,Assumptions!$B$31:$C$31,2,FALSE),0) -> 0 | G16: =IFERROR(VLOOKUP(G$12,Assumptions!$B$31:$C$31,2,FALSE),0) -> 0 | H16: =IFERROR(VLOOKUP(H$12,Assumptions!$B$31:$C$31,2,FALSE),0) -> 0 | I16: =IFERROR(VLOOKUP(I$12,Assumptions!$B$31:$C$31,2,FALSE),0) -> 0 | J16: =IFERROR(VLOOKUP(J$12,Assumptions!$B$31:$C$31,2,FALSE),0) -> 0 | ... BJ16: =IFERROR(VLOOKUP(BJ$12,Assumptions!$B$31:$C$31,2,FALSE),0) -> 0
B17: =B7 | C17: =IFERROR(VLOOKUP(C$12,Assumptions!$B$32:$C$32,2,FALSE),0) -> 0 | D17: =IFERROR(VLOOKUP(D$12,Assumptions!$B$32:$C$32,2,FALSE),0) -> 0 | E17: =IFERROR(VLOOKUP(E$12,Assumptions!$B$32:$C$32,2,FALSE),0) -> 0 | F17: =IFERROR(VLOOKUP(F$12,Assumptions!$B$32:$C$32,2,FALSE),0) -> 0 | G17: =IFERROR(VLOOKUP(G$12,Assumptions!$B$32:$C$32,2,FALSE),0) -> 0 | H17: =IFERROR(VLOOKUP(H$12,Assumptions!$B$32:$C$32,2,FALSE),0) -> 0 | I17: =IFERROR(VLOOKUP(I$12,Assumptions!$B$32:$C$32,2,FALSE),0) -> 0 | J17: =IFERROR(VLOOKUP(J$12,Assumptions!$B$32:$C$32,2,FALSE),0) -> 0 | ... BJ17: =IFERROR(VLOOKUP(BJ$12,Assumptions!$B$32:$C$32,2,FALSE),0) -> 0
B19: Total | C19: =SUM(C13:C18) -> 0 | D19: =SUM(D13:D18) -> 0 | E19: =SUM(E13:E18) -> 0 | F19: =SUM(F13:F18) -> 0 | G19: =SUM(G13:G18) -> 0 | H19: =SUM(H13:H18) -> 0 | I19: =SUM(I13:I18) -> 0 | J19: =SUM(J13:J18) -> 0 | ... BJ19: =SUM(BJ13:BJ18) -> 0
B22: Net Cost Schedule | C22: Mon 1 | D22: Mon 2 | E22: Mon 3 | F22: Mon 4 | G22: Mon 5 | H22: Mon 6 | I22: Mon 7 | J22: Mon 8 | K22: Mon 9 | L22: Mon 10 | M22: Mon 11 | N22: Mon 12 | O22: Mon 13 | P22: Mon 14 | Q22: Mon 15 | R22: Mon 16 | S22: Mon 17 | T22: Mon 18 | U22: Mon 19 | V22: Mon 20 | W22: Mon 21 | X22: Mon 22 | Y22: Mon 23 | Z22: Mon 24 | AA22: Mon 25 | AB22: Mon 26 | AC22: Mon 27 | AD22: Mon 28 | AE22: Mon 29 | AF22: Mon 30 | AG22: Mon 31 | AH22: Mon 32 | AI22: Mon 33 | AJ22: Mon 34 | AK22: Mon 35 | AL22: Mon 36 | AM22: Mon 37 | AN22: Mon 38 | AO22: Mon 39 | AP22: Mon 40 | AQ22: Mon 41 | AR22: Mon 42 | AS22: Mon 43 | AT22: Mon 44 | AU22: Mon 45 | AV22: Mon 46 | AW22: Mon 47 | AX22: Mon 48 | AY22: Mon 49 | AZ22: Mon 50 | BA22: Mon 51 | BB22: Mon 52 | BC22: Mon 53 | BD22: Mon 54 | BE22: Mon 55 | BF22: Mon 56 | BG22: Mon 57 | BH22: Mon 58 | BI22: Mon 59 | BJ22: Mon 60
B23: =B13 -> Metal Fabrication Shop Acquisition | C23: =C3+C13 -> 2000000 | D23: =C23+D13 -> 2000000 | E23: =D23+E13 -> 2000000 | F23: =E23+F13 -> 2000000 | G23: =F23+G13 -> 2000000 | H23: =G23+H13 -> 2000000 | I23: =H23+I13 -> 2000000 | J23: =I23+J13 -> 2000000 | K23: =J23+K13 -> 2000000 | ... BJ23: =BI23+BJ13 -> 2000000
B24: =B14 -> R&D Surveillance System | C24: =C4+C14 -> 1500000 | D24: =C24+D14 -> 1500000 | E24: =D24+E14 -> 1500000 | F24: =E24+F14 -> 1500000 | G24: =F24+G14 -> 1500000 | H24: =G24+H14 -> 1500000 | I24: =H24+I14 -> 1500000 | J24: =I24+J14 -> 1500000 | K24: =J24+K14 -> 1500000 | ... BJ24: =BI24+BJ14 -> 1500000
B25: =B15 -> Shop Upgrades | C25: =C5+C15 -> 950000 | D25: =C25+D15 -> 950000 | E25: =D25+E15 -> 950000 | F25: =E25+F15 -> 950000 | G25: =F25+G15 -> 950000 | H25: =G25+H15 -> 950000 | I25: =H25+I15 -> 950000 | J25: =I25+J15 -> 950000 | K25: =J25+K15 -> 950000 | ... BJ25: =BI25+BJ15 -> 950000
B26: =B16 | C26: =C6+C16 -> 0 | D26: =C26+D16 -> 0 | E26: =D26+E16 -> 0 | F26: =E26+F16 -> 0 | G26: =F26+G16 -> 0 | H26: =G26+H16 -> 0 | I26: =H26+I16 -> 0 | J26: =I26+J16 -> 0 | K26: =J26+K16 -> 0 | ... BJ26: =BI26+BJ16 -> 0
B27: =B17 | C27: =C7+C17 -> 0 | D27: =C27+D17 -> 0 | E27: =D27+E17 -> 0 | F27: =E27+F17 -> 0 | G27: =F27+G17 -> 0 | H27: =G27+H17 -> 0 | I27: =H27+I17 -> 0 | J27: =I27+J17 -> 0 | K27: =J27+K17 -> 0 | ... BJ27: =BI27+BJ17 -> 0
B29: Total | C29: =SUM(C23:C28) -> 4450000 | D29: =SUM(D23:D28) -> 4450000 | E29: =SUM(E23:E28) -> 4450000 | F29: =SUM(F23:F28) -> 4450000 | G29: =SUM(G23:G28) -> 4450000 | H29: =SUM(H23:H28) -> 4450000 | I29: =SUM(I23:I28) -> 4450000 | J29: =SUM(J23:J28) -> 4450000 | ... BJ29: =SUM(BJ23:BJ28) -> 4450000
B32: Depreciation Schedule | C32: Mon 1 | D32: Mon 2 | E32: Mon 3 | F32: Mon 4 | G32: Mon 5 | H32: Mon 6 | I32: Mon 7 | J32: Mon 8 | K32: Mon 9 | L32: Mon 10 | M32: Mon 11 | N32: Mon 12 | O32: Mon 13 | P32: Mon 14 | Q32: Mon 15 | R32: Mon 16 | S32: Mon 17 | T32: Mon 18 | U32: Mon 19 | V32: Mon 20 | W32: Mon 21 | X32: Mon 22 | Y32: Mon 23 | Z32: Mon 24 | AA32: Mon 25 | AB32: Mon 26 | AC32: Mon 27 | AD32: Mon 28 | AE32: Mon 29 | AF32: Mon 30 | AG32: Mon 31 | AH32: Mon 32 | AI32: Mon 33 | AJ32: Mon 34 | AK32: Mon 35 | AL32: Mon 36 | AM32: Mon 37 | AN32: Mon 38 | AO32: Mon 39 | AP32: Mon 40 | AQ32: Mon 41 | AR32: Mon 42 | AS32: Mon 43 | AT32: Mon 44 | AU32: Mon 45 | AV32: Mon 46 | AW32: Mon 47 | AX32: Mon 48 | AY32: Mon 49 | AZ32: Mon 50 | BA32: Mon 51 | BB32: Mon 52 | BC32: Mon 53 | BD32: Mon 54 | BE32: Mon 55 | BF32: Mon 56 | BG32: Mon 57 | BH32: Mon 58 | BI32: Mon 59 | BJ32: Mon 60
B33: =B23 -> Metal Fabrication Shop Acquisition | C33: =C23*Assumptions!$C20/12 -> 5000 | D33: =D23*Assumptions!$C20/12 -> 5000 | E33: =E23*Assumptions!$C20/12 -> 5000 | F33: =F23*Assumptions!$C20/12 -> 5000 | G33: =G23*Assumptions!$C20/12 -> 5000 | H33: =H23*Assumptions!$C20/12 -> 5000 | I33: =I23*Assumptions!$C20/12 -> 5000 | J33: =J23*Assumptions!$C20/12 -> 5000 | ... BJ33: =BJ23*Assumptions!$C20/12 -> 5000
B34: =B24 -> R&D Surveillance System | C34: =C24*Assumptions!$C21/12 -> 3750 | D34: =D24*Assumptions!$C21/12 -> 3750 | E34: =E24*Assumptions!$C21/12 -> 3750 | F34: =F24*Assumptions!$C21/12 -> 3750 | G34: =G24*Assumptions!$C21/12 -> 3750 | H34: =H24*Assumptions!$C21/12 -> 3750 | I34: =I24*Assumptions!$C21/12 -> 3750 | J34: =J24*Assumptions!$C21/12 -> 3750 | ... BJ34: =BJ24*Assumptions!$C21/12 -> 3750
B35: =B25 -> Shop Upgrades | C35: =C25*Assumptions!$C22/12 -> 2375 | D35: =D25*Assumptions!$C22/12 -> 2375 | E35: =E25*Assumptions!$C22/12 -> 2375 | F35: =F25*Assumptions!$C22/12 -> 2375 | G35: =G25*Assumptions!$C22/12 -> 2375 | H35: =H25*Assumptions!$C22/12 -> 2375 | I35: =I25*Assumptions!$C22/12 -> 2375 | J35: =J25*Assumptions!$C22/12 -> 2375 | ... BJ35: =BJ25*Assumptions!$C22/12 -> 2375
B36: =B26 | C36: =C26*Assumptions!$C23/12 -> 0 | D36: =D26*Assumptions!$C23/12 -> 0 | E36: =E26*Assumptions!$C23/12 -> 0 | F36: =F26*Assumptions!$C23/12 -> 0 | G36: =G26*Assumptions!$C23/12 -> 0 | H36: =H26*Assumptions!$C23/12 -> 0 | I36: =I26*Assumptions!$C23/12 -> 0 | J36: =J26*Assumptions!$C23/12 -> 0 | ... BJ36: =BJ26*Assumptions!$C23/12 -> 0
B37: =B27 | C37: =C27*Assumptions!$C24/12 -> 0 | D37: =D27*Assumptions!$C24/12 -> 0 | E37: =E27*Assumptions!$C24/12 -> 0 | F37: =F27*Assumptions!$C24/12 -> 0 | G37: =G27*Assumptions!$C24/12 -> 0 | H37: =H27*Assumptions!$C24/12 -> 0 | I37: =I27*Assumptions!$C24/12 -> 0 | J37: =J27*Assumptions!$C24/12 -> 0 | ... BJ37: =BJ27*Assumptions!$C24/12 -> 0
B39: Total | C39: =SUM(C33:C38) -> 11125 | D39: =SUM(D33:D38) -> 11125 | E39: =SUM(E33:E38) -> 11125 | F39: =SUM(F33:F38) -> 11125 | G39: =SUM(G33:G38) -> 11125 | H39: =SUM(H33:H38) -> 11125 | I39: =SUM(I33:I38) -> 11125 | J39: =SUM(J33:J38) -> 11125 | ... BJ39: =SUM(BJ33:BJ38) -> 11125
B42: Accumulated Depreciation Schedule | C42: Mon 1 | D42: Mon 2 | E42: Mon 3 | F42: Mon 4 | G42: Mon 5 | H42: Mon 6 | I42: Mon 7 | J42: Mon 8 | K42: Mon 9 | L42: Mon 10 | M42: Mon 11 | N42: Mon 12 | O42: Mon 13 | P42: Mon 14 | Q42: Mon 15 | R42: Mon 16 | S42: Mon 17 | T42: Mon 18 | U42: Mon 19 | V42: Mon 20 | W42: Mon 21 | X42: Mon 22 | Y42: Mon 23 | Z42: Mon 24 | AA42: Mon 25 | AB42: Mon 26 | AC42: Mon 27 | AD42: Mon 28 | AE42: Mon 29 | AF42: Mon 30 | AG42: Mon 31 | AH42: Mon 32 | AI42: Mon 33 | AJ42: Mon 34 | AK42: Mon 35 | AL42: Mon 36 | AM42: Mon 37 | AN42: Mon 38 | AO42: Mon 39 | AP42: Mon 40 | AQ42: Mon 41 | AR42: Mon 42 | AS42: Mon 43 | AT42: Mon 44 | AU42: Mon 45 | AV42: Mon 46 | AW42: Mon 47 | AX42: Mon 48 | AY42: Mon 49 | AZ42: Mon 50 | BA42: Mon 51 | BB42: Mon 52 | BC42: Mon 53 | BD42: Mon 54 | BE42: Mon 55 | BF42: Mon 56 | BG42: Mon 57 | BH42: Mon 58 | BI42: Mon 59 | BJ42: Mon 60
B43: =B33 -> Metal Fabrication Shop Acquisition | C43: =C33 -> 5000 | D43: =C43+D33 -> 10000 | E43: =D43+E33 -> 15000 | F43: =E43+F33 -> 20000 | G43: =F43+G33 -> 25000 | H43: =G43+H33 -> 30000 | I43: =H43+I33 -> 35000 | J43: =I43+J33 -> 40000 | K43: =J43+K33 -> 45000 | ... BJ43: =BI43+BJ33 -> 300000
B44: =B34 -> R&D Surveillance System | C44: =C34 -> 3750 | D44: =C44+D34 -> 7500 | E44: =D44+E34 -> 11250 | F44: =E44+F34 -> 15000 | G44: =F44+G34 -> 18750 | H44: =G44+H34 -> 22500 | I44: =H44+I34 -> 26250 | J44: =I44+J34 -> 30000 | K44: =J44+K34 -> 33750 | ... BJ44: =BI44+BJ34 -> 225000
B45: =B35 -> Shop Upgrades | C45: =C35 -> 2375 | D45: =C45+D35 -> 4750 | E45: =D45+E35 -> 7125 | F45: =E45+F35 -> 9500 | G45: =F45+G35 -> 11875 | H45: =G45+H35 -> 14250 | I45: =H45+I35 -> 16625 | J45: =I45+J35 -> 19000 | K45: =J45+K35 -> 21375 | ... BJ45: =BI45+BJ35 -> 142500
B46: =B36 | C46: =C36 -> 0 | D46: =C46+D36 -> 0 | E46: =D46+E36 -> 0 | F46: =E46+F36 -> 0 | G46: =F46+G36 -> 0 | H46: =G46+H36 -> 0 | I46: =H46+I36 -> 0 | J46: =I46+J36 -> 0 | K46: =J46+K36 -> 0 | ... BJ46: =BI46+BJ36 -> 0
B47: =B37 | C47: =C37 -> 0 | D47: =C47+D37 -> 0 | E47: =D47+E37 -> 0 | F47: =E47+F37 -> 0 | G47: =F47+G37 -> 0 | H47: =G47+H37 -> 0 | I47: =H47+I37 -> 0 | J47: =I47+J37 -> 0 | K47: =J47+K37 -> 0 | ... BJ47: =BI47+BJ37 -> 0
B49: Total | C49: =SUM(C43:C48) -> 11125 | D49: =SUM(D43:D48) -> 22250 | E49: =SUM(E43:E48) -> 33375 | F49: =SUM(F43:F48) -> 44500 | G49: =SUM(G43:G48) -> 55625 | H49: =SUM(H43:H48) -> 66750 | I49: =SUM(I43:I48) -> 77875 | J49: =SUM(J43:J48) -> 89000 | ... BJ49: =SUM(BJ43:BJ48) -> 667500
B52: Written Down Value Schedule | C52: Mon 1 | D52: Mon 2 | E52: Mon 3 | F52: Mon 4 | G52: Mon 5 | H52: Mon 6 | I52: Mon 7 | J52: Mon 8 | K52: Mon 9 | L52: Mon 10 | M52: Mon 11 | N52: Mon 12 | O52: Mon 13 | P52: Mon 14 | Q52: Mon 15 | R52: Mon 16 | S52: Mon 17 | T52: Mon 18 | U52: Mon 19 | V52: Mon 20 | W52: Mon 21 | X52: Mon 22 | Y52: Mon 23 | Z52: Mon 24 | AA52: Mon 25 | AB52: Mon 26 | AC52: Mon 27 | AD52: Mon 28 | AE52: Mon 29 | AF52: Mon 30 | AG52: Mon 31 | AH52: Mon 32 | AI52: Mon 33 | AJ52: Mon 34 | AK52: Mon 35 | AL52: Mon 36 | AM52: Mon 37 | AN52: Mon 38 | AO52: Mon 39 | AP52: Mon 40 | AQ52: Mon 41 | AR52: Mon 42 | AS52: Mon 43 | AT52: Mon 44 | AU52: Mon 45 | AV52: Mon 46 | AW52: Mon 47 | AX52: Mon 48 | AY52: Mon 49 | AZ52: Mon 50 | BA52: Mon 51 | BB52: Mon 52 | BC52: Mon 53 | BD52: Mon 54 | BE52: Mon 55 | BF52: Mon 56 | BG52: Mon 57 | BH52: Mon 58 | BI52: Mon 59 | BJ52: Mon 60
B53: =B43 -> Metal Fabrication Shop Acquisition | C53: =C23-C43 -> 1995000 | D53: =D23-D43 -> 1990000 | E53: =E23-E43 -> 1985000 | F53: =F23-F43 -> 1980000 | G53: =G23-G43 -> 1975000 | H53: =H23-H43 -> 1970000 | I53: =I23-I43 -> 1965000 | J53: =J23-J43 -> 1960000 | ... BJ53: =BJ23-BJ43 -> 1700000
B54: =B44 -> R&D Surveillance System | C54: =C24-C44 -> 1496250 | D54: =D24-D44 -> 1492500 | E54: =E24-E44 -> 1488750 | F54: =F24-F44 -> 1485000 | G54: =G24-G44 -> 1481250 | H54: =H24-H44 -> 1477500 | I54: =I24-I44 -> 1473750 | J54: =J24-J44 -> 1470000 | ... BJ54: =BJ24-BJ44 -> 1275000
B55: =B45 -> Shop Upgrades | C55: =C25-C45 -> 947625 | D55: =D25-D45 -> 945250 | E55: =E25-E45 -> 942875 | F55: =F25-F45 -> 940500 | G55: =G25-G45 -> 938125 | H55: =H25-H45 -> 935750 | I55: =I25-I45 -> 933375 | J55: =J25-J45 -> 931000 | ... BJ55: =BJ25-BJ45 -> 807500
...

Sheet Payroll
A2: Staff Payroll Plan (Monthly) | B2: Monthly Pay Year 1 | C2: Monthly Pay Year 2 | D2: Monthly Pay Year 3 | E2: Monthly Pay Year 4 | F2: Monthly Pay Year 5
A3: =Assumptions!A47 -> Owner / Manager | B3: =Assumptions!B47 -> 0 | C3: =B3*(1+Assumptions!C$4) -> 0 | D3: =C3*(1+Assumptions!D$4) -> 0 | E3: =D3*(1+Assumptions!E$4) -> 0 | F3: =E3*(1+Assumptions!F$4) -> 0
A4: =Assumptions!A48 -> CTO | B4: =Assumptions!B48 -> 28874.417 | C4: =B4*(1+Assumptions!C$4) -> 31761.858 | D4: =C4*(1+Assumptions!D$4) -> 34938.044 | E4: =D4*(1+Assumptions!E$4) -> 38431.849 | F4: =E4*(1+Assumptions!F$4) -> 42275.033
A5: =Assumptions!A49 -> AI & Software Engineers | B5: =Assumptions!B49 -> 13483.667 | C5: =B5*(1+Assumptions!C$4) -> 14832.033 | D5: =C5*(1+Assumptions!D$4) -> 16315.237 | E5: =D5*(1+Assumptions!E$4) -> 17946.76 | F5: =E5*(1+Assumptions!F$4) -> 19741.436
A6: =Assumptions!A50 -> Compliance & Security Lead | B6: =Assumptions!B50 -> 9215.5 | C6: =B6*(1+Assumptions!C$4) -> 10137.05 | D6: =C6*(1+Assumptions!D$4) -> 11150.755 | E6: =D6*(1+Assumptions!E$4) -> 12265.831 | F6: =E6*(1+Assumptions!F$4) -> 13492.414
A7: =Assumptions!A51 -> Marketing Specialist | B7: =Assumptions!B51 -> 7536.3333 | C7: =B7*(1+Assumptions!C$4) -> 8289.9667 | D7: =C7*(1+Assumptions!D$4) -> 9118.9633 | E7: =D7*(1+Assumptions!E$4) -> 10030.86 | F7: =E7*(1+Assumptions!F$4) -> 11033.946
A8: =Assumptions!A52 -> Admin Staff | B8: =Assumptions!B52 -> 3834.1667 | C8: =B8*(1+Assumptions!C$4) -> 4217.5833 | D8: =C8*(1+Assumptions!D$4) -> 4639.3417 | E8: =D8*(1+Assumptions!E$4) -> 5103.2758 | F8: =E8*(1+Assumptions!F$4) -> 5613.6034
A9: =Assumptions!A53 -> Manufacturing Technicians | B9: =Assumptions!B53 -> 4158.1667 | C9: =B9*(1+Assumptions!C$4) -> 4573.9833 | D9: =C9*(1+Assumptions!D$4) -> 5031.3817 | E9: =D9*(1+Assumptions!E$4) -> 5534.5198 | F9: =E9*(1+Assumptions!F$4) -> 6087.9718
A10: Total | B10: =SUM(B3:B9) -> 67102.25 | C10: =SUM(C3:C9) -> 73812.475 | D10: =SUM(D3:D9) -> 81193.723 | E10: =SUM(E3:E9) -> 89313.095 | F10: =SUM(F3:F9) -> 98244.404
A14: Headcount | B14: Mon 1 | C14: Mon 2 | D14: Mon 3 | E14: Mon 4 | F14: Mon 5 | G14: Mon 6 | H14: Mon 7 | I14: Mon 8 | J14: Mon 9 | K14: Mon 10 | L14: Mon 11 | M14: Mon 12 | N14: Mon 13 | O14: Mon 14 | P14: Mon 15 | Q14: Mon 16 | R14: Mon 17 | S14: Mon 18 | T14: Mon 19 | U14: Mon 20 | V14: Mon 21 | W14: Mon 22 | X14: Mon 23 | Y14: Mon 24 | Z14: Mon 25 | AA14: Mon 26 | AB14: Mon 27 | AC14: Mon 28 | AD14: Mon 29 | AE14: Mon 30 | AF14: Mon 31 | AG14: Mon 32 | AH14: Mon 33 | AI14: Mon 34 | AJ14: Mon 35 | AK14: Mon 36 | AL14: Mon 37 | AM14: Mon 38 | AN14: Mon 39 | AO14: Mon 40 | AP14: Mon 41 | AQ14: Mon 42 | AR14: Mon 43 | AS14: Mon 44 | AT14: Mon 45 | AU14: Mon 46 | AV14: Mon 47 | AW14: Mon 48 | AX14: Mon 49 | AY14: Mon 50 | AZ14: Mon 51 | BA14: Mon 52 | BB14: Mon 53 | BC14: Mon 54 | BD14: Mon 55 | BE14: Mon 56 | BF14: Mon 57 | BG14: Mon 58 | BH14: Mon 59 | BI14: Mon 60
A15: =Assumptions!A47 -> Owner / Manager | B15: =Assumptions!$C47 -> 1 | C15: =Assumptions!$C47 -> 1 | D15: =Assumptions!$C47 -> 1 | E15: =Assumptions!$C47 -> 1 | F15: =Assumptions!$C47 -> 1 | G15: =Assumptions!$C47 -> 1 | H15: =Assumptions!$C47 -> 1 | I15: =Assumptions!$C47 -> 1 | ... M15: =Assumptions!$C47 -> 1 | N15: =Assumptions!$D47 -> 1 | O15: =Assumptions!$D47 -> 1 | P15: =Assumptions!$D47 -> 1 | Q15: =Assumptions!$D47 -> 1 | R15: =Assumptions!$D47 -> 1 | S15: =Assumptions!$D47 -> 1 | T15: =Assumptions!$D47 -> 1 | U15: =Assumptions!$D47 -> 1 | ... Y15: =Assumptions!$D47 -> 1 | Z15: =Assumptions!$E47 -> 1 | AA15: =Assumptions!$E47 -> 1 | AB15: =Assumptions!$E47 -> 1 | AC15: =Assumptions!$E47 -> 1 | AD15: =Assumptions!$E47 -> 1 | AE15: =Assumptions!$E47 -> 1 | AF15: =Assumptions!$E47 -> 1 | AG15: =Assumptions!$E47 -> 1 | ... AK15: =Assumptions!$E47 -> 1 | AL15: =Assumptions!$F47 -> 1 | AM15: =Assumptions!$F47 -> 1 | AN15: =Assumptions!$F47 -> 1 | AO15: =Assumptions!$F47 -> 1 | AP15: =Assumptions!$F47 -> 1 | AQ15: =Assumptions!$F47 -> 1 | AR15: =Assumptions!$F47 -> 1 | AS15: =Assumptions!$F47 -> 1 | ... AW15: =Assumptions!$F47 -> 1 | AX15: =Assumptions!$G47 -> 1 | AY15: =Assumptions!$G47 -> 1 | AZ15: =Assumptions!$G47 -> 1 | BA15: =Assumptions!$G47 -> 1 | BB15: =Assumptions!$G47 -> 1 | BC15: =Assumptions!$G47 -> 1 | BD15: =Assumptions!$G47 -> 1 | BE15: =Assumptions!$G47 -> 1 | ... BI15: =Assumptions!$G47 -> 1
A16: =Assumptions!A48 -> CTO | B16: =Assumptions!$C48 -> 1 | C16: =Assumptions!$C48 -> 1 | D16: =Assumptions!$C48 -> 1 | E16: =Assumptions!$C48 -> 1 | F16: =Assumptions!$C48 -> 1 | G16: =Assumptions!$C48 -> 1 | H16: =Assumptions!$C48 -> 1 | I16: =Assumptions!$C48 -> 1 | ... M16: =Assumptions!$C48 -> 1 | N16: =Assumptions!$D48 -> 1 | O16: =Assumptions!$D48 -> 1 | P16: =Assumptions!$D48 -> 1 | Q16: =Assumptions!$D48 -> 1 | R16: =Assumptions!$D48 -> 1 | S16: =Assumptions!$D48 -> 1 | T16: =Assumptions!$D48 -> 1 | U16: =Assumptions!$D48 -> 1 | ... Y16: =Assumptions!$D48 -> 1 | Z16: =Assumptions!$E48 -> 1 | AA16: =Assumptions!$E48 -> 1 | AB16: =Assumptions!$E48 -> 1 | AC16: =Assumptions!$E48 -> 1 | AD16: =Assumptions!$E48 -> 1 | AE16: =Assumptions!$E48 -> 1 | AF16: =Assumptions!$E48 -> 1 | AG16: =Assumptions!$E48 -> 1 | ... AK16: =Assumptions!$E48 -> 1 | AL16: =Assumptions!$F48 -> 1 | AM16: =Assumptions!$F48 -> 1 | AN16: =Assumptions!$F48 -> 1 | AO16: =Assumptions!$F48 -> 1 | AP16: =Assumptions!$F48 -> 1 | AQ16: =Assumptions!$F48 -> 1 | AR16: =Assumptions!$F48 -> 1 | AS16: =Assumptions!$F48 -> 1 | ... AW16: =Assumptions!$F48 -> 1 | AX16: =Assumptions!$G48 -> 1 | AY16: =Assumptions!$G48 -> 1 | AZ16: =Assumptions!$G48 -> 1 | BA16: =Assumptions!$G48 -> 1 | BB16: =Assumptions!$G48 -> 1 | BC16: =Assumptions!$G48 -> 1 | BD16: =Assumptions!$G48 -> 1 | BE16: =Assumptions!$G48 -> 1 | ... BI16: =Assumptions!$G48 -> 1
A17: =Assumptions!A49 -> AI & Software Engineers | B17: =Assumptions!$C49 -> 1 | C17: =Assumptions!$C49 -> 1 | D17: =Assumptions!$C49 -> 1 | E17: =Assumptions!$C49 -> 1 | F17: =Assumptions!$C49 -> 1 | G17: =Assumptions!$C49 -> 1 | H17: =Assumptions!$C49 -> 1 | I17: =Assumptions!$C49 -> 1 | ... M17: =Assumptions!$C49 -> 1 | N17: =Assumptions!$D49 -> 1 | O17: =Assumptions!$D49 -> 1 | P17: =Assumptions!$D49 -> 1 | Q17: =Assumptions!$D49 -> 1 | R17: =Assumptions!$D49 -> 1 | S17: =Assumptions!$D49 -> 1 | T17: =Assumptions!$D49 -> 1 | U17: =Assumptions!$D49 -> 1 | ... Y17: =Assumptions!$D49 -> 1 | Z17: =Assumptions!$E49 -> 2 | AA17: =Assumptions!$E49 -> 2 | AB17: =Assumptions!$E49 -> 2 | AC17: =Assumptions!$E49 -> 2 | AD17: =Assumptions!$E49 -> 2 | AE17: =Assumptions!$E49 -> 2 | AF17: =Assumptions!$E49 -> 2 | AG17: =Assumptions!$E49 -> 2 | ... AK17: =Assumptions!$E49 -> 2 | AL17: =Assumptions!$F49 -> 2 | AM17: =Assumptions!$F49 -> 2 | AN17: =Assumptions!$F49 -> 2 | AO17: =Assumptions!$F49 -> 2 | AP17: =Assumptions!$F49 -> 2 | AQ17: =Assumptions!$F49 -> 2 | AR17: =Assumptions!$F49 -> 2 | AS17: =Assumptions!$F49 -> 2 | ... AW17: =Assumptions!$F49 -> 2 | AX17: =Assumptions!$G49 -> 2 | AY17: =Assumptions!$G49 -> 2 | AZ17: =Assumptions!$G49 -> 2 | BA17: =Assumptions!$G49 -> 2 | BB17: =Assumptions!$G49 -> 2 | BC17: =Assumptions!$G49 -> 2 | BD17: =Assumptions!$G49 -> 2 | BE17: =Assumptions!$G49 -> 2 | ... BI17: =Assumptions!$G49 -> 2
A18: =Assumptions!A50 -> Compliance & Security Lead | B18: =Assumptions!$C50 -> 1 | C18: =Assumptions!$C50 -> 1 | D18: =Assumptions!$C50 -> 1 | E18: =Assumptions!$C50 -> 1 | F18: =Assumptions!$C50 -> 1 | G18: =Assumptions!$C50 -> 1 | H18: =Assumptions!$C50 -> 1 | I18: =Assumptions!$C50 -> 1 | ... M18: =Assumptions!$C50 -> 1 | N18: =Assumptions!$D50 -> 1 | O18: =Assumptions!$D50 -> 1 | P18: =Assumptions!$D50 -> 1 | Q18: =Assumptions!$D50 -> 1 | R18: =Assumptions!$D50 -> 1 | S18: =Assumptions!$D50 -> 1 | T18: =Assumptions!$D50 -> 1 | U18: =Assumptions!$D50 -> 1 | ... Y18: =Assumptions!$D50 -> 1 | Z18: =Assumptions!$E50 -> 1 | AA18: =Assumptions!$E50 -> 1 | AB18: =Assumptions!$E50 -> 1 | AC18: =Assumptions!$E50 -> 1 | AD18: =Assumptions!$E50 -> 1 | AE18: =Assumptions!$E50 -> 1 | AF18: =Assumptions!$E50 -> 1 | AG18: =Assumptions!$E50 -> 1 | ... AK18: =Assumptions!$E50 -> 1 | AL18: =Assumptions!$F50 -> 1 | AM18: =Assumptions!$F50 -> 1 | AN18: =Assumptions!$F50 -> 1 | AO18: =Assumptions!$F50 -> 1 | AP18: =Assumptions!$F50 -> 1 | AQ18: =Assumptions!$F50 -> 1 | AR18: =Assumptions!$F50 -> 1 | AS18: =Assumptions!$F50 -> 1 | ... AW18: =Assumptions!$F50 -> 1 | AX18: =Assumptions!$G50 -> 1 | AY18: =Assumptions!$G50 -> 1 | AZ18: =Assumptions!$G50 -> 1 | BA18: =Assumptions!$G50 -> 1 | BB18: =Assumptions!$G50 -> 1 | BC18: =Assumptions!$G50 -> 1 | BD18: =Assumptions!$G50 -> 1 | BE18: =Assumptions!$G50 -> 1 | ... BI18: =Assumptions!$G50 -> 1
A19: =Assumptions!A51 -> Marketing Specialist | B19: =Assumptions!$C51 -> 1 | C19: =Assumptions!$C51 -> 1 | D19: =Assumptions!$C51 -> 1 | E19: =Assumptions!$C51 -> 1 | F19: =Assumptions!$C51 -> 1 | G19: =Assumptions!$C51 -> 1 | H19: =Assumptions!$C51 -> 1 | I19: =Assumptions!$C51 -> 1 | ... M19: =Assumptions!$C51 -> 1 | N19: =Assumptions!$D51 -> 1 | O19: =Assumptions!$D51 -> 1 | P19: =Assumptions!$D51 -> 1 | Q19: =Assumptions!$D51 -> 1 | R19: =Assumptions!$D51 -> 1 | S19: =Assumptions!$D51 -> 1 | T19: =Assumptions!$D51 -> 1 | U19: =Assumptions!$D51 -> 1 | ... Y19: =Assumptions!$D51 -> 1 | Z19: =Assumptions!$E51 -> 1 | AA19: =Assumptions!$E51 -> 1 | AB19: =Assumptions!$E51 -> 1 | AC19: =Assumptions!$E51 -> 1 | AD19: =Assumptions!$E51 -> 1 | AE19: =Assumptions!$E51 -> 1 | AF19: =Assumptions!$E51 -> 1 | AG19: =Assumptions!$E51 -> 1 | ... AK19: =Assumptions!$E51 -> 1 | AL19: =Assumptions!$F51 -> 1 | AM19: =Assumptions!$F51 -> 1 | AN19: =Assumptions!$F51 -> 1 | AO19: =Assumptions!$F51 -> 1 | AP19: =Assumptions!$F51 -> 1 | AQ19: =Assumptions!$F51 -> 1 | AR19: =Assumptions!$F51 -> 1 | AS19: =Assumptions!$F51 -> 1 | ... AW19: =Assumptions!$F51 -> 1 | AX19: =Assumptions!$G51 -> 1 | AY19: =Assumptions!$G51 -> 1 | AZ19: =Assumptions!$G51 -> 1 | BA19: =Assumptions!$G51 -> 1 | BB19: =Assumptions!$G51 -> 1 | BC19: =Assumptions!$G51 -> 1 | BD19: =Assumptions!$G51 -> 1 | BE19: =Assumptions!$G51 -> 1 | ... BI19: =Assumptions!$G51 -> 1
A20: =Assumptions!A52 -> Admin Staff | B20: =Assumptions!$C52 -> 2 | C20: =Assumptions!$C52 -> 2 | D20: =Assumptions!$C52 -> 2 | E20: =Assumptions!$C52 -> 2 | F20: =Assumptions!$C52 -> 2 | G20: =Assumptions!$C52 -> 2 | H20: =Assumptions!$C52 -> 2 | I20: =Assumptions!$C52 -> 2 | ... M20: =Assumptions!$C52 -> 2 | N20: =Assumptions!$D52 -> 2 | O20: =Assumptions!$D52 -> 2 | P20: =Assumptions!$D52 -> 2 | Q20: =Assumptions!$D52 -> 2 | R20: =Assumptions!$D52 -> 2 | S20: =Assumptions!$D52 -> 2 | T20: =Assumptions!$D52 -> 2 | U20: =Assumptions!$D52 -> 2 | ... Y20: =Assumptions!$D52 -> 2 | Z20: =Assumptions!$E52 -> 2 | AA20: =Assumptions!$E52 -> 2 | AB20: =Assumptions!$E52 -> 2 | AC20: =Assumptions!$E52 -> 2 | AD20: =Assumptions!$E52 -> 2 | AE20: =Assumptions!$E52 -> 2 | AF20: =Assumptions!$E52 -> 2 | AG20: =Assumptions!$E52 -> 2 | ... AK20: =Assumptions!$E52 -> 2 | AL20: =Assumptions!$F52 -> 2 | AM20: =Assumptions!$F52 -> 2 | AN20: =Assumptions!$F52 -> 2 | AO20: =Assumptions!$F52 -> 2 | AP20: =Assumptions!$F52 -> 2 | AQ20: =Assumptions!$F52 -> 2 | AR20: =Assumptions!$F52 -> 2 | AS20: =Assumptions!$F52 -> 2 | ... AW20: =Assumptions!$F52 -> 2 | AX20: =Assumptions!$G52 -> 2 | AY20: =Assumptions!$G52 -> 2 | AZ20: =Assumptions!$G52 -> 2 | BA20: =Assumptions!$G52 -> 2 | BB20: =Assumptions!$G52 -> 2 | BC20: =Assumptions!$G52 -> 2 | BD20: =Assumptions!$G52 -> 2 | BE20: =Assumptions!$G52 -> 2 | ... BI20: =Assumptions!$G52 -> 2
A21: =Assumptions!A53 -> Manufacturing Technicians | B21: =Assumptions!$C53 -> 3 | C21: =Assumptions!$C53 -> 3 | D21: =Assumptions!$C53 -> 3 | E21: =Assumptions!$C53 -> 3 | F21: =Assumptions!$C53 -> 3 | G21: =Assumptions!$C53 -> 3 | H21: =Assumptions!$C53 -> 3 | I21: =Assumptions!$C53 -> 3 | ... M21: =Assumptions!$C53 -> 3 | N21: =Assumptions!$D53 -> 5 | O21: =Assumptions!$D53 -> 5 | P21: =Assumptions!$D53 -> 5 | Q21: =Assumptions!$D53 -> 5 | R21: =Assumptions!$D53 -> 5 | S21: =Assumptions!$D53 -> 5 | T21: =Assumptions!$D53 -> 5 | U21: =Assumptions!$D53 -> 5 | ... Y21: =Assumptions!$D53 -> 5 | Z21: =Assumptions!$E53 -> 5 | AA21: =Assumptions!$E53 -> 5 | AB21: =Assumptions!$E53 -> 5 | AC21: =Assumptions!$E53 -> 5 | AD21: =Assumptions!$E53 -> 5 | AE21: =Assumptions!$E53 -> 5 | AF21: =Assumptions!$E53 -> 5 | AG21: =Assumptions!$E53 -> 5 | ... AK21: =Assumptions!$E53 -> 5 | AL21: =Assumptions!$F53 -> 6 | AM21: =Assumptions!$F53 -> 6 | AN21: =Assumptions!$F53 -> 6 | AO21: =Assumptions!$F53 -> 6 | AP21: =Assumptions!$F53 -> 6 | AQ21: =Assumptions!$F53 -> 6 | AR21: =Assumptions!$F53 -> 6 | AS21: =Assumptions!$F53 -> 6 | ... AW21: =Assumptions!$F53 -> 6 | AX21: =Assumptions!$G53 -> 7 | AY21: =Assumptions!$G53 -> 7 | AZ21: =Assumptions!$G53 -> 7 | BA21: =Assumptions!$G53 -> 7 | BB21: =Assumptions!$G53 -> 7 | BC21: =Assumptions!$G53 -> 7 | BD21: =Assumptions!$G53 -> 7 | BE21: =Assumptions!$G53 -> 7 | ... BI21: =Assumptions!$G53 -> 7
A22: Total | B22: =SUM(B15:B21) -> 10 | C22: =SUM(C15:C21) -> 10 | D22: =SUM(D15:D21) -> 10 | E22: =SUM(E15:E21) -> 10 | F22: =SUM(F15:F21) -> 10 | G22: =SUM(G15:G21) -> 10 | H22: =SUM(H15:H21) -> 10 | I22: =SUM(I15:I21) -> 10 | ... BI22: =SUM(BI15:BI21) -> 15
A26: Payroll Plan Monthly | B26: Mon 1 | C26: Mon 2 | D26: Mon 3 | E26: Mon 4 | F26: Mon 5 | G26: Mon 6 | H26: Mon 7 | I26: Mon 8 | J26: Mon 9 | K26: Mon 10 | L26: Mon 11 | M26: Mon 12 | N26: Mon 13 | O26: Mon 14 | P26: Mon 15 | Q26: Mon 16 | R26: Mon 17 | S26: Mon 18 | T26: Mon 19 | U26: Mon 20 | V26: Mon 21 | W26: Mon 22 | X26: Mon 23 | Y26: Mon 24 | Z26: Mon 25 | AA26: Mon 26 | AB26: Mon 27 | AC26: Mon 28 | AD26: Mon 29 | AE26: Mon 30 | AF26: Mon 31 | AG26: Mon 32 | AH26: Mon 33 | AI26: Mon 34 | AJ26: Mon 35 | AK26: Mon 36 | AL26: Mon 37 | AM26: Mon 38 | AN26: Mon 39 | AO26: Mon 40 | AP26: Mon 41 | AQ26: Mon 42 | AR26: Mon 43 | AS26: Mon 44 | AT26: Mon 45 | AU26: Mon 46 | AV26: Mon 47 | AW26: Mon 48 | AX26: Mon 49 | AY26: Mon 50 | AZ26: Mon 51 | BA26: Mon 52 | BB26: Mon 53 | BC26: Mon 54 | BD26: Mon 55 | BE26: Mon 56 | BF26: Mon 57 | BG26: Mon 58 | BH26: Mon 59 | BI26: Mon 60
A27: =A15 -> Owner / Manager | B27: =$B3*B15 -> 0 | C27: =$B3*C15 -> 0 | D27: =$B3*D15 -> 0 | E27: =$B3*E15 -> 0 | F27: =$B3*F15 -> 0 | G27: =$B3*G15 -> 0 | H27: =$B3*H15 -> 0 | I27: =$B3*I15 -> 0 | ... M27: =$B3*M15 -> 0 | N27: =$C3*N15 -> 0 | O27: =$C3*O15 -> 0 | P27: =$C3*P15 -> 0 | Q27: =$C3*Q15 -> 0 | R27: =$C3*R15 -> 0 | S27: =$C3*S15 -> 0 | T27: =$C3*T15 -> 0 | U27: =$C3*U15 -> 0 | ... Y27: =$C3*Y15 -> 0 | Z27: =$D3*Z15 -> 0 | AA27: =$D3*AA15 -> 0 | AB27: =$D3*AB15 -> 0 | AC27: =$D3*AC15 -> 0 | AD27: =$D3*AD15 -> 0 | AE27: =$D3*AE15 -> 0 | AF27: =$D3*AF15 -> 0 | AG27: =$D3*AG15 -> 0 | ... AK27: =$D3*AK15 -> 0 | AL27: =$E3*AL15 -> 0 | AM27: =$E3*AM15 -> 0 | AN27: =$E3*AN15 -> 0 | AO27: =$E3*AO15 -> 0 | AP27: =$E3*AP15 -> 0 | AQ27: =$E3*AQ15 -> 0 | AR27: =$E3*AR15 -> 0 | AS27: =$E3*AS15 -> 0 | ... AW27: =$E3*AW15 -> 0 | AX27: =$F3*AX15 -> 0 | AY27: =$F3*AY15 -> 0 | AZ27: =$F3*AZ15 -> 0 | BA27: =$F3*BA15 -> 0 | BB27: =$F3*BB15 -> 0 | BC27: =$F3*BC15 -> 0 | BD27: =$F3*BD15 -> 0 | BE27: =$F3*BE15 -> 0 | ... BI27: =$F3*BI15 -> 0
A28: =A16 -> CTO | B28: =$B4*B16 -> 28874.417 | C28: =$B4*C16 -> 28874.417 | D28: =$B4*D16 -> 28874.417 | E28: =$B4*E16 -> 28874.417 | F28: =$B4*F16 -> 28874.417 | G28: =$B4*G16 -> 28874.417 | H28: =$B4*H16 -> 28874.417 | I28: =$B4*I16 -> 28874.417 | ... M28: =$B4*M16 -> 28874.417 | N28: =$C4*N16 -> 31761.858 | O28: =$B4*O16 -> 28874.417 | P28: =$B4*P16 -> 28874.417 | Q28: =$B4*Q16 -> 28874.417 | R28: =$B4*R16 -> 28874.417 | S28: =$B4*S16 -> 28874.417 | T28: =$B4*T16 -> 28874.417 | U28: =$B4*U16 -> 28874.417 | V28: =$B4*V16 -> 28874.417 | ... Y28: =$B4*Y16 -> 28874.417 | Z28: =$D4*Z16 -> 34938.044 | AA28: =$B4*AA16 -> 28874.417 | AB28: =$B4*AB16 -> 28874.417 | AC28: =$B4*AC16 -> 28874.417 | AD28: =$B4*AD16 -> 28874.417 | AE28: =$B4*AE16 -> 28874.417 | AF28: =$B4*AF16 -> 28874.417 | AG28: =$B4*AG16 -> 28874.417 | AH28: =$B4*AH16 -> 28874.417 | ... AK28: =$B4*AK16 -> 28874.417 | AL28: =$E4*AL16 -> 38431.849 | AM28: =$B4*AM16 -> 28874.417 | AN28: =$B4*AN16 -> 28874.417 | AO28: =$B4*AO16 -> 28874.417 | AP28: =$B4*AP16 -> 28874.417 | AQ28: =$B4*AQ16 -> 28874.417 | AR28: =$B4*AR16 -> 28874.417 | AS28: =$B4*AS16 -> 28874.417 | AT28: =$B4*AT16 -> 28874.417 | ... AW28: =$B4*AW16 -> 28874.417 | AX28: =$F4*AX16 -> 42275.033 | AY28: =$B4*AY16 -> 28874.417 | AZ28: =$B4*AZ16 -> 28874.417 | BA28: =$B4*BA16 -> 28874.417 | BB28: =$B4*BB16 -> 28874.417 | BC28: =$B4*BC16 -> 28874.417 | BD28: =$B4*BD16 -> 28874.417 | BE28: =$B4*BE16 -> 28874.417 | BF28: =$B4*BF16 -> 28874.417 | ... BI28: =$B4*BI16 -> 28874.417
A29: =A17 -> AI & Software Engineers | B29: =$B5*B17 -> 13483.667 | C29: =$B5*C17 -> 13483.667 | D29: =$B5*D17 -> 13483.667 | E29: =$B5*E17 -> 13483.667 | F29: =$B5*F17 -> 13483.667 | G29: =$B5*G17 -> 13483.667 | H29: =$B5*H17 -> 13483.667 | I29: =$B5*I17 -> 13483.667 | ... M29: =$B5*M17 -> 13483.667 | N29: =$C5*N17 -> 14832.033 | O29: =$B5*O17 -> 13483.667 | P29: =$B5*P17 -> 13483.667 | Q29: =$B5*Q17 -> 13483.667 | R29: =$B5*R17 -> 13483.667 | S29: =$B5*S17 -> 13483.667 | T29: =$B5*T17 -> 13483.667 | U29: =$B5*U17 -> 13483.667 | V29: =$B5*V17 -> 13483.667 | ... Y29: =$B5*Y17 -> 13483.667 | Z29: =$D5*Z17 -> 32630.473 | AA29: =$B5*AA17 -> 26967.333 | AB29: =$B5*AB17 -> 26967.333 | AC29: =$B5*AC17 -> 26967.333 | AD29: =$B5*AD17 -> 26967.333 | AE29: =$B5*AE17 -> 26967.333 | AF29: =$B5*AF17 -> 26967.333 | AG29: =$B5*AG17 -> 26967.333 | AH29: =$B5*AH17 -> 26967.333 | ... AK29: =$B5*AK17 -> 26967.333 | AL29: =$E5*AL17 -> 35893.521 | AM29: =$B5*AM17 -> 26967.333 | AN29: =$B5*AN17 -> 26967.333 | AO29: =$B5*AO17 -> 26967.333 | AP29: =$B5*AP17 -> 26967.333 | AQ29: =$B5*AQ17 -> 26967.333 | AR29: =$B5*AR17 -> 26967.333 | AS29: =$B5*AS17 -> 26967.333 | AT29: =$B5*AT17 -> 26967.333 | ... AW29: =$B5*AW17 -> 26967.333 | AX29: =$F5*AX17 -> 39482.873 | AY29: =$B5*AY17 -> 26967.333 | AZ29: =$B5*AZ17 -> 26967.333 | BA29: =$B5*BA17 -> 26967.333 | BB29: =$B5*BB17 -> 26967.333 | BC29: =$B5*BC17 -> 26967.333 | BD29: =$B5*BD17 -> 26967.333 | BE29: =$B5*BE17 -> 26967.333 | BF29: =$B5*BF17 -> 26967.333 | ... BI29: =$B5*BI17 -> 26967.333
A30: =A18 -> Compliance & Security Lead | B30: =$B6*B18 -> 9215.5 | C30: =$B6*C18 -> 9215.5 | D30: =$B6*D18 -> 9215.5 | E30: =$B6*E18 -> 9215.5 | F30: =$B6*F18 -> 9215.5 | G30: =$B6*G18 -> 9215.5 | H30: =$B6*H18 -> 9215.5 | I30: =$B6*I18 -> 9215.5 | ... M30: =$B6*M18 -> 9215.5 | N30: =$C6*N18 -> 10137.05 | O30: =$B6*O18 -> 9215.5 | P30: =$B6*P18 -> 9215.5 | Q30: =$B6*Q18 -> 9215.5 | R30: =$B6*R18 -> 9215.5 | S30: =$B6*S18 -> 9215.5 | T30: =$B6*T18 -> 9215.5 | U30: =$B6*U18 -> 9215.5 | V30: =$B6*V18 -> 9215.5 | ... Y30: =$B6*Y18 -> 9215.5 | Z30: =$D6*Z18 -> 11150.755 | AA30: =$B6*AA18 -> 9215.5 | AB30: =$B6*AB18 -> 9215.5 | AC30: =$B6*AC18 -> 9215.5 | AD30: =$B6*AD18 -> 9215.5 | AE30: =$B6*AE18 -> 9215.5 | AF30: =$B6*AF18 -> 9215.5 | AG30: =$B6*AG18 -> 9215.5 | AH30: =$B6*AH18 -> 9215.5 | ... AK30: =$B6*AK18 -> 9215.5 | AL30: =$E6*AL18 -> 12265.831 | AM30: =$B6*AM18 -> 9215.5 | AN30: =$B6*AN18 -> 9215.5 | AO30: =$B6*AO18 -> 9215.5 | AP30: =$B6*AP18 -> 9215.5 | AQ30: =$B6*AQ18 -> 9215.5 | AR30: =$B6*AR18 -> 9215.5 | AS30: =$B6*AS18 -> 9215.5 | AT30: =$B6*AT18 -> 9215.5 | ... AW30: =$B6*AW18 -> 9215.5 | AX30: =$F6*AX18 -> 13492.414 | AY30: =$B6*AY18 -> 9215.5 | AZ30: =$B6*AZ18 -> 9215.5 | BA30: =$B6*BA18 -> 9215.5 | BB30: =$B6*BB18 -> 9215.5 | BC30: =$B6*BC18 -> 9215.5 | BD30: =$B6*BD18 -> 9215.5 | BE30: =$B6*BE18 -> 9215.5 | BF30: =$B6*BF18 -> 9215.5 | ... BI30: =$B6*BI18 -> 9215.5
A31: =A19 -> Marketing Specialist | B31: =$B7*B19 -> 7536.3333 | C31: =$B7*C19 -> 7536.3333 | D31: =$B7*D19 -> 7536.3333 | E31: =$B7*E19 -> 7536.3333 | F31: =$B7*F19 -> 7536.3333 | G31: =$B7*G19 -> 7536.3333 | H31: =$B7*H19 -> 7536.3333 | I31: =$B7*I19 -> 7536.3333 | ... M31: =$B7*M19 -> 7536.3333 | N31: =$C7*N19 -> 8289.9667 | O31: =$B7*O19 -> 7536.3333 | P31: =$B7*P19 -> 7536.3333 | Q31: =$B7*Q19 -> 7536.3333 | R31: =$B7*R19 -> 7536.3333 | S31: =$B7*S19 -> 7536.3333 | T31: =$B7*T19 -> 7536.3333 | U31: =$B7*U19 -> 7536.3333 | V31: =$B7*V19 -> 7536.3333 | ... Y31: =$B7*Y19 -> 7536.3333 | Z31: =$D7*Z19 -> 9118.9633 | AA31: =$B7*AA19 -> 7536.3333 | AB31: =$B7*AB19 -> 7536.3333 | AC31: =$B7*AC19 -> 7536.3333 | AD31: =$B7*AD19 -> 7536.3333 | AE31: =$B7*AE19 -> 7536.3333 | AF31: =$B7*AF19 -> 7536.3333 | AG31: =$B7*AG19 -> 7536.3333 | AH31: =$B7*AH19 -> 7536.3333 | ... AK31: =$B7*AK19 -> 7536.3333 | AL31: =$E7*AL19 -> 10030.86 | AM31: =$B7*AM19 -> 7536.3333 | AN31: =$B7*AN19 -> 7536.3333 | AO31: =$B7*AO19 -> 7536.3333 | AP31: =$B7*AP19 -> 7536.3333 | AQ31: =$B7*AQ19 -> 7536.3333 | AR31: =$B7*AR19 -> 7536.3333 | AS31: =$B7*AS19 -> 7536.3333 | AT31: =$B7*AT19 -> 7536.3333 | ... AW31: =$B7*AW19 -> 7536.3333 | AX31: =$F7*AX19 -> 11033.946 | AY31: =$B7*AY19 -> 7536.3333 | AZ31: =$B7*AZ19 -> 7536.3333 | BA31: =$B7*BA19 -> 7536.3333 | BB31: =$B7*BB19 -> 7536.3333 | BC31: =$B7*BC19 -> 7536.3333 | BD31: =$B7*BD19 -> 7536.3333 | BE31: =$B7*BE19 -> 7536.3333 | BF31: =$B7*BF19 -> 7536.3333 | ... BI31: =$B7*BI19 -> 7536.3333
A32: =A20 -> Admin Staff | B32: =$B8*B20 -> 7668.3333 | C32: =$B8*C20 -> 7668.3333 | D32: =$B8*D20 -> 7668.3333 | E32: =$B8*E20 -> 7668.3333 | F32: =$B8*F20 -> 7668.3333 | G32: =$B8*G20 -> 7668.3333 | H32: =$B8*H20 -> 7668.3333 | I32: =$B8*I20 -> 7668.3333 | ... M32: =$B8*M20 -> 7668.3333 | N32: =$C8*N20 -> 8435.1667 | O32: =$B8*O20 -> 7668.3333 | P32: =$B8*P20 -> 7668.3333 | Q32: =$B8*Q20 -> 7668.3333 | R32: =$B8*R20 -> 7668.3333 | S32: =$B8*S20 -> 7668.3333 | T32: =$B8*T20 -> 7668.3333 | U32: =$B8*U20 -> 7668.3333 | V32: =$B8*V20 -> 7668.3333 | ... Y32: =$B8*Y20 -> 7668.3333 | Z32: =$D8*Z20 -> 9278.6833 | AA32: =$B8*AA20 -> 7668.3333 | AB32: =$B8*AB20 -> 7668.3333 | AC32: =$B8*AC20 -> 7668.3333 | AD32: =$B8*AD20 -> 7668.3333 | AE32: =$B8*AE20 -> 7668.3333 | AF32: =$B8*AF20 -> 7668.3333 | AG32: =$B8*AG20 -> 7668.3333 | AH32: =$B8*AH20 -> 7668.3333 | ... AK32: =$B8*AK20 -> 7668.3333 | AL32: =$E8*AL20 -> 10206.552 | AM32: =$B8*AM20 -> 7668.3333 | AN32: =$B8*AN20 -> 7668.3333 | AO32: =$B8*AO20 -> 7668.3333 | AP32: =$B8*AP20 -> 7668.3333 | AQ32: =$B8*AQ20 -> 7668.3333 | AR32: =$B8*AR20 -> 7668.3333 | AS32: =$B8*AS20 -> 7668.3333 | AT32: =$B8*AT20 -> 7668.3333 | ... AW32: =$B8*AW20 -> 7668.3333 | AX32: =$F8*AX20 -> 11227.207 | AY32: =$B8*AY20 -> 7668.3333 | AZ32: =$B8*AZ20 -> 7668.3333 | BA32: =$B8*BA20 -> 7668.3333 | BB32: =$B8*BB20 -> 7668.3333 | BC32: =$B8*BC20 -> 7668.3333 | BD32: =$B8*BD20 -> 7668.3333 | BE32: =$B8*BE20 -> 7668.3333 | BF32: =$B8*BF20 -> 7668.3333 | ... BI32: =$B8*BI20 -> 7668.3333
A33: =A21 -> Manufacturing Technicians | B33: =$B9*B21 -> 12474.5 | C33: =$B9*C21 -> 12474.5 | D33: =$B9*D21 -> 12474.5 | E33: =$B9*E21 -> 12474.5 | F33: =$B9*F21 -> 12474.5 | G33: =$B9*G21 -> 12474.5 | H33: =$B9*H21 -> 12474.5 | I33: =$B9*I21 -> 12474.5 | ... M33: =$B9*M21 -> 12474.5 | N33: =$C9*N21 -> 22869.917 | O33: =$B9*O21 -> 20790.833 | P33: =$B9*P21 -> 20790.833 | Q33: =$B9*Q21 -> 20790.833 | R33: =$B9*R21 -> 20790.833 | S33: =$B9*S21 -> 20790.833 | T33: =$B9*T21 -> 20790.833 | U33: =$B9*U21 -> 20790.833 | V33: =$B9*V21 -> 20790.833 | ... Y33: =$B9*Y21 -> 20790.833 | Z33: =$D9*Z21 -> 25156.908 | AA33: =$B9*AA21 -> 20790.833 | AB33: =$B9*AB21 -> 20790.833 | AC33: =$B9*AC21 -> 20790.833 | AD33: =$B9*AD21 -> 20790.833 | AE33: =$B9*AE21 -> 20790.833 | AF33: =$B9*AF21 -> 20790.833 | AG33: =$B9*AG21 -> 20790.833 | AH33: =$B9*AH21 -> 20790.833 | ... AK33: =$B9*AK21 -> 20790.833 | AL33: =$E9*AL21 -> 33207.119 | AM33: =$B9*AM21 -> 24949 | AN33: =$B9*AN21 -> 24949 | AO33: =$B9*AO21 -> 24949 | AP33: =$B9*AP21 -> 24949 | AQ33: =$B9*AQ21 -> 24949 | AR33: =$B9*AR21 -> 24949 | AS33: =$B9*AS21 -> 24949 | AT33: =$B9*AT21 -> 24949 | ... AW33: =$B9*AW21 -> 24949 | AX33: =$F9*AX21 -> 42615.803 | AY33: =$B9*AY21 -> 29107.167 | AZ33: =$B9*AZ21 -> 29107.167 | BA33: =$B9*BA21 -> 29107.167 | BB33: =$B9*BB21 -> 29107.167 | BC33: =$B9*BC21 -> 29107.167 | BD33: =$B9*BD21 -> 29107.167 | BE33: =$B9*BE21 -> 29107.167 | BF33: =$B9*BF21 -> 29107.167 | ... BI33: =$B9*BI21 -> 29107.167
A34: Total | B34: =SUM(B27:B33) -> 79252.75 | C34: =SUM(C27:C33) -> 79252.75 | D34: =SUM(D27:D33) -> 79252.75 | E34: =SUM(E27:E33) -> 79252.75 | F34: =SUM(F27:F33) -> 79252.75 | G34: =SUM(G27:G33) -> 79252.75 | H34: =SUM(H27:H33) -> 79252.75 | I34: =SUM(I27:I33) -> 79252.75 | ... BI34: =SUM(BI27:BI33) -> 109369.08
A36: Payroll Plan Yearly | B36: Year 1 | C36: Year 2 | D36: Year 3 | E36: Year 4 | F36: Year 5
A37: =A27 -> Owner / Manager | B37: =SUM(B27:M27) -> 0 | C37: =SUM(N27:Y27) -> 0 | D37: =SUM(Z27:AK27) -> 0 | E37: =SUM(AL27:AW27) -> 0 | F37: =SUM(AX27:BI27) -> 0
A38: =A28 -> CTO | B38: =SUM(B28:M28) -> 346493 | C38: =SUM(N28:Y28) -> 349380.44 | D38: =SUM(Z28:AK28) -> 352556.63 | E38: =SUM(AL28:AW28) -> 356050.43 | F38: =SUM(AX28:BI28) -> 359893.62
A39: =A29 -> AI & Software Engineers | B39: =SUM(B29:M29) -> 161804 | C39: =SUM(N29:Y29) -> 163152.37 | D39: =SUM(Z29:AK29) -> 329271.14 | E39: =SUM(AL29:AW29) -> 332534.19 | F39: =SUM(AX29:BI29) -> 336123.54
A40: =A30 -> Compliance & Security Lead | B40: =SUM(B30:M30) -> 110586 | C40: =SUM(N30:Y30) -> 111507.55 | D40: =SUM(Z30:AK30) -> 112521.26 | E40: =SUM(AL30:AW30) -> 113636.33 | F40: =SUM(AX30:BI30) -> 114862.91
A41: =A31 -> Marketing Specialist | B41: =SUM(B31:M31) -> 90436 | C41: =SUM(N31:Y31) -> 91189.633 | D41: =SUM(Z31:AK31) -> 92018.63 | E41: =SUM(AL31:AW31) -> 92930.526 | F41: =SUM(AX31:BI31) -> 93933.612
A42: =A32 -> Admin Staff | B42: =SUM(B32:M32) -> 92020 | C42: =SUM(N32:Y32) -> 92786.833 | D42: =SUM(Z32:AK32) -> 93630.35 | E42: =SUM(AL32:AW32) -> 94558.218 | F42: =SUM(AX32:BI32) -> 95578.874
A43: =A33 -> Manufacturing Technicians | B43: =SUM(B33:M33) -> 149694 | C43: =SUM(N33:Y33) -> 251569.08 | D43: =SUM(Z33:AK33) -> 253856.08 | E43: =SUM(AL33:AW33) -> 307646.12 | F43: =SUM(AX33:BI33) -> 362794.64
A44: Total | B44: =SUM(B37:B43) -> 951033 | C44: =SUM(C37:C43) -> 1059585.9 | D44: =SUM(D37:D43) -> 1233854.1 | E44: =SUM(E37:E43) -> 1297355.8 | F44: =SUM(F37:F43) -> 1363187.2

Sheet Loan Schedule
A2: Loan | B2: =Assumptions!B60 -> 0
A3: Interest Rate | B3: =Assumptions!B61 -> 0.115
A4: nper | B4: =Assumptions!B62 -> 10 | C4: years
A5: PMT | B5: =PMT(B3/12,B4*12,-(B2)) -> 0
A8: Monthly Loan Schedule | B8: Mon 1 | C8: Mon 2 | D8: Mon 3 | E8: Mon 4 | F8: Mon 5 | G8: Mon 6 | H8: Mon 7 | I8: Mon 8 | J8: Mon 9 | K8: Mon 10 | L8: Mon 11 | M8: Mon 12 | N8: Mon 13 | O8: Mon 14 | P8: Mon 15 | Q8: Mon 16 | R8: Mon 17 | S8: Mon 18 | T8: Mon 19 | U8: Mon 20 | V8: Mon 21 | W8: Mon 22 | X8: Mon 23 | Y8: Mon 24 | Z8: Mon 25 | AA8: Mon 26 | AB8: Mon 27 | AC8: Mon 28 | AD8: Mon 29 | AE8: Mon 30 | AF8: Mon 31 | AG8: Mon 32 | AH8: Mon 33 | AI8: Mon 34 | AJ8: Mon 35 | AK8: Mon 36 | AL8: Mon 37 | AM8: Mon 38 | AN8: Mon 39 | AO8: Mon 40 | AP8: Mon 41 | AQ8: Mon 42 | AR8: Mon 43 | AS8: Mon 44 | AT8: Mon 45 | AU8: Mon 46 | AV8: Mon 47 | AW8: Mon 48 | AX8: Mon 49 | AY8: Mon 50 | AZ8: Mon 51 | BA8: Mon 52 | BB8: Mon 53 | BC8: Mon 54 | BD8: Mon 55 | BE8: Mon 56 | BF8: Mon 57 | BG8: Mon 58 | BH8: Mon 59 | BI8: Mon 60 | BJ8: Mon 61 | BK8: Mon 62 | BL8: Mon 63 | BM8: Mon 64 | BN8: Mon 65 | BO8: Mon 66 | BP8: Mon 67 | BQ8: Mon 68 | BR8: Mon 69 | BS8: Mon 70 | BT8: Mon 71 | BU8: Mon 72 | BV8: Mon 73 | BW8: Mon 74 | BX8: Mon 75 | BY8: Mon 76 | BZ8: Mon 77 | CA8: Mon 78 | CB8: Mon 79 | CC8: Mon 80 | CD8: Mon 81 | CE8: Mon 82 | CF8: Mon 83 | CG8: Mon 84
A9: Beginning Balance | B9: =B2 -> 0 | C9: =B13 -> 0 | D9: =C13 -> 0 | E9: =D13 -> 0 | F9: =E13 -> 0 | G9: =F13 -> 0 | H9: =G13 -> 0 | I9: =H13 -> 0 | J9: =I13 -> 0 | ... CG9: =CF13 -> 0
A10: Installment | B10: =B5 -> 0 | C10: =B10 -> 0 | D10: =C10 -> 0 | E10: =D10 -> 0 | F10: =E10 -> 0 | G10: =F10 -> 0 | H10: =G10 -> 0 | I10: =H10 -> 0 | J10: =I10 -> 0 | ... CG10: =CF10 -> 0
A11: Interest Payment | B11: =B9*$B$3/12 -> 0 | C11: =C9*$B$3/12 -> 0 | D11: =D9*$B$3/12 -> 0 | E11: =E9*$B$3/12 -> 0 | F11: =F9*$B$3/12 -> 0 | G11: =G9*$B$3/12 -> 0 | H11: =H9*$B$3/12 -> 0 | I11: =I9*$B$3/12 -> 0 | ... CG11: =CG9*$B$3/12 -> 0
A12: Principal Payment | B12: =B10-B11 -> 0 | C12: =C10-C11 -> 0 | D12: =D10-D11 -> 0 | E12: =E10-E11 -> 0 | F12: =F10-F11 -> 0 | G12: =G10-G11 -> 0 | H12: =H10-H11 -> 0 | I12: =I10-I11 -> 0 | ... CG12: =CG10-CG11 -> 0
A13: Ending Balance | B13: =B9-B12 -> 0 | C13: =C9-C12 -> 0 | D13: =D9-D12 -> 0 | E13: =E9-E12 -> 0 | F13: =F9-F12 -> 0 | G13: =G9-G12 -> 0 | H13: =H9-H12 -> 0 | I13: =I9-I12 -> 0 | ... CG13: =CG9-CG12 -> 0
A16: Yearly Loan Schedule | B16: Year 1 | C16: Year 2 | D16: Year 3 | E16: Year 4 | F16: Year 5 | G16: Year 6 | H16: Year 7
A17: Beginning Balance | B17: =B9 -> 0 | C17: =B21 -> 0 | D17: =C21 -> 0 | E17: =D21 -> 0 | F17: =E21 -> 0 | G17: =F21 -> 0 | H17: =G21 -> 0
A18: Installment | B18: =SUM(B10:M10) -> 0 | C18: =SUM(N10:Y10) -> 0 | D18: =SUM(Z10:AK10) -> 0 | E18: =SUM(AL10:AW10) -> 0 | F18: =SUM(AX10:BI10) -> 0 | G18: =SUM(BJ10:BU10) -> 0 | H18: =SUM(BV10:CG10) -> 0
A19: Interest Payment | B19: =SUM(B11:M11) -> 0 | C19: =SUM(N11:Y11) -> 0 | D19: =SUM(Z11:AK11) -> 0 | E19: =SUM(AL11:AW11) -> 0 | F19: =SUM(AX11:BI11) -> 0 | G19: =SUM(BJ11:BU11) -> 0 | H19: =SUM(BV11:CG11) -> 0
A20: Principal Payment | B20: =SUM(B12:M12) -> 0 | C20: =SUM(N12:Y12) -> 0 | D20: =SUM(Z12:AK12) -> 0 | E20: =SUM(AL12:AW12) -> 0 | F20: =SUM(AX12:BI12) -> 0 | G20: =SUM(BJ12:BU12) -> 0 | H20: =SUM(BV12:CG12) -> 0
A21: Ending Balance | B21: =B17-B20 -> 0 | C21: =C17-C20 -> 0 | D21: =D17-D20 -> 0 | E21: =E17-E20 -> 0 | F21: =F17-F20 -> 0 | G21: =G17-G20 -> 0 | H21: =H17-H20 -> 0

Sheet Use of Proceeds
A2: Costs | B2: Amount
A3: Fixed Assets:
A4: =Assumptions!A20 -> Metal Fabrication Shop Acquisition | B4: =Assumptions!B20 -> 2000000
A5: =Assumptions!A21 -> R&D Surveillance System | B5: =Assumptions!B21 -> 1500000
A6: =Assumptions!A22 -> Shop Upgrades | B6: =Assumptions!B22 -> 950000
A8: Current Assets:
A9: Cash (Working Capital & Reserves) | B9: =Assumptions!C12-SUM(Assumptions!B20:B25,Assumptions!B36:B41) -> 4150000
A11: Expenses:
A12: =Assumptions!A36 -> Regulatory Compliance & Certifications | B12: =Assumptions!B36 -> 250000
A13: =Assumptions!A37 -> Marketing & Advertising Campaigns | B13: =Assumptions!B37 -> 300000
A14: =Assumptions!A38 -> R&D & Testing | B14: =Assumptions!B38 -> 500000
A15: =Assumptions!A39 -> Payroll Reserves | B15: =Assumptions!B39 -> 300000
A16: =Assumptions!A40 -> Miscellaneous Expenses | B16: =Assumptions!B40 -> 50000
A18: Assets to Fund | B18: =SUM(B4:B9) -> 8600000
A19: Expenses to Fund | B19: =SUM(B12:B16) -> 1400000
A20: Total Investment | B20: =SUM(B18:B19) -> 10000000
A22: Investment Breakup
A23: Total Investment | B23: =B20 -> 10000000
A25: Loan | B25: =Assumptions!C14 -> 0
A26: Capital Investment | B26: =Assumptions!C15 -> 10000000
A28: Loan % | B28: =B25/B23 -> 0
A29: Capital Investment % | B29: =B26/B23 -> 1

Sheet Expense Sheet
A2: Expenses | B2: Mon 1 | C2: Mon 2 | D2: Mon 3 | E2: Mon 4 | F2: Mon 5 | G2: Mon 6 | H2: Mon 7 | I2: Mon 8 | J2: Mon 9 | K2: Mon 10 | L2: Mon 11 | M2: Mon 12 | N2: Mon 13 | O2: Mon 14 | P2: Mon 15 | Q2: Mon 16 | R2: Mon 17 | S2: Mon 18 | T2: Mon 19 | U2: Mon 20 | V2: Mon 21 | W2: Mon 22 | X2: Mon 23 | Y2: Mon 24 | Z2: Mon 25 | AA2: Mon 26 | AB2: Mon 27 | AC2: Mon 28 | AD2: Mon 29 | AE2: Mon 30 | AF2: Mon 31 | AG2: Mon 32 | AH2: Mon 33 | AI2: Mon 34 | AJ2: Mon 35 | AK2: Mon 36 | AL2: Mon 37 | AM2: Mon 38 | AN2: Mon 39 | AO2: Mon 40 | AP2: Mon 41 | AQ2: Mon 42 | AR2: Mon 43 | AS2: Mon 44 | AT2: Mon 45 | AU2: Mon 46 | AV2: Mon 47 | AW2: Mon 48 | AX2: Mon 49 | AY2: Mon 50 | AZ2: Mon 51 | BA2: Mon 52 | BB2: Mon 53 | BC2: Mon 54 | BD2: Mon 55 | BE2: Mon 56 | BF2: Mon 57 | BG2: Mon 58 | BH2: Mon 59 | BI2: Mon 60
A3: Payroll | B3: =Payroll!B34 -> 79252.75 | C3: =Payroll!C34 -> 79252.75 | D3: =Payroll!D34 -> 79252.75 | E3: =Payroll!E34 -> 79252.75 | F3: =Payroll!F34 -> 79252.75 | G3: =Payroll!G34 -> 79252.75 | H3: =Payroll!H34 -> 79252.75 | I3: =Payroll!I34 -> 79252.75 | ... BI3: =Payroll!BI34 -> 109369.08
A4: =Assumptions!A68 -> Rent & Utilities | B4: =Assumptions!B68 -> 16000 | C4: =B4 -> 16000 | D4: =C4 -> 16000 | E4: =D4 -> 16000 | F4: =E4 -> 16000 | G4: =F4 -> 16000 | H4: =G4 -> 16000 | I4: =H4 -> 16000 | J4: =I4 -> 16000 | ... M4: =L4 -> 16000 | N4: =M4*(1+Assumptions!$C$5) -> 16480 | O4: =N4 -> 16480 | P4: =O4 -> 16480 | Q4: =P4 -> 16480 | R4: =Q4 -> 16480 | S4: =R4 -> 16480 | T4: =S4 -> 16480 | U4: =T4 -> 16480 | V4: =U4 -> 16480 | ... Y4: =X4 -> 16480 | Z4: =Y4*(1+Assumptions!$D$5) -> 16974.4 | AA4: =Z4 -> 16974.4 | AB4: =AA4 -> 16974.4 | AC4: =AB4 -> 16974.4 | AD4: =AC4 -> 16974.4 | AE4: =AD4 -> 16974.4 | AF4: =AE4 -> 16974.4 | AG4: =AF4 -> 16974.4 | AH4: =AG4 -> 16974.4 | ... AK4: =AJ4 -> 16974.4 | AL4: =AK4*(1+Assumptions!$E$5) -> 17483.632 | AM4: =AL4 -> 17483.632 | AN4: =AM4 -> 17483.632 | AO4: =AN4 -> 17483.632 | AP4: =AO4 -> 17483.632 | AQ4: =AP4 -> 17483.632 | AR4: =AQ4 -> 17483.632 | AS4: =AR4 -> 17483.632 | AT4: =AS4 -> 17483.632 | ... AW4: =AV4 -> 17483.632 | AX4: =AW4*(1+Assumptions!$F$5) -> 18008.141 | AY4: =AX4 -> 18008.141 | AZ4: =AY4 -> 18008.141 | BA4: =AZ4 -> 18008.141 | BB4: =BA4 -> 18008.141 | BC4: =BB4 -> 18008.141 | BD4: =BC4 -> 18008.141 | BE4: =BD4 -> 18008.141 | BF4: =BE4 -> 18008.141 | ... BI4: =BH4 -> 18008.141
A5: =Assumptions!A69 -> Regulatory & Compliance | B5: =Assumptions!B69 -> 9100 | C5: =B5 -> 9100 | D5: =C5 -> 9100 | E5: =D5 -> 9100 | F5: =E5 -> 9100 | G5: =F5 -> 9100 | H5: =G5 -> 9100 | I5: =H5 -> 9100 | J5: =I5 -> 9100 | ... M5: =L5 -> 9100 | N5: =M5*(1+Assumptions!$C$7) -> 18200 | O5: =N5 -> 18200 | P5: =O5 -> 18200 | Q5: =P5 -> 18200 | R5: =Q5 -> 18200 | S5: =R5 -> 18200 | T5: =S5 -> 18200 | U5: =T5 -> 18200 | V5: =U5 -> 18200 | ... Y5: =X5 -> 18200 | Z5: =Y5*(1+Assumptions!$D$7) -> 36400 | AA5: =Z5 -> 36400 | AB5: =AA5 -> 36400 | AC5: =AB5 -> 36400 | AD5: =AC5 -> 36400 | AE5: =AD5 -> 36400 | AF5: =AE5 -> 36400 | AG5: =AF5 -> 36400 | AH5: =AG5 -> 36400 | ... AK5: =AJ5 -> 36400 | AL5: =AK5*(1+Assumptions!$E$7) -> 72800 | AM5: =AL5 -> 72800 | AN5: =AM5 -> 72800 | AO5: =AN5 -> 72800 | AP5: =AO5 -> 72800 | AQ5: =AP5 -> 72800 | AR5: =AQ5 -> 72800 | AS5: =AR5 -> 72800 | AT5: =AS5 -> 72800 | ... AW5: =AV5 -> 72800 | AX5: =AW5*(1+Assumptions!$F$7) -> 145600 | AY5: =AX5 -> 145600 | AZ5: =AY5 -> 145600 | BA5: =AZ5 -> 145600 | BB5: =BA5 -> 145600 | BC5: =BB5 -> 145600 | BD5: =BC5 -> 145600 | BE5: =BD5 -> 145600 | BF5: =BE5 -> 145600 | ... BI5: =BH5 -> 145600
A6: =Assumptions!A70 -> Maintenance & Equipment Upkeep | B6: =Assumptions!B70 -> 11500 | C6: =B6 -> 11500 | D6: =C6 -> 11500 | E6: =D6 -> 11500 | F6: =E6 -> 11500 | G6: =F6 -> 11500 | H6: =G6 -> 11500 | I6: =H6 -> 11500 | J6: =I6 -> 11500 | ... M6: =L6 -> 11500 | N6: =M6*(1+Assumptions!$C$7) -> 23000 | O6: =N6 -> 23000 | P6: =O6 -> 23000 | Q6: =P6 -> 23000 | R6: =Q6 -> 23000 | S6: =R6 -> 23000 | T6: =S6 -> 23000 | U6: =T6 -> 23000 | V6: =U6 -> 23000 | ... Y6: =X6 -> 23000 | Z6: =Y6*(1+Assumptions!$D$7) -> 46000 | AA6: =Z6 -> 46000 | AB6: =AA6 -> 46000 | AC6: =AB6 -> 46000 | AD6: =AC6 -> 46000 | AE6: =AD6 -> 46000 | AF6: =AE6 -> 46000 | AG6: =AF6 -> 46000 | AH6: =AG6 -> 46000 | ... AK6: =AJ6 -> 46000 | AL6: =AK6*(1+Assumptions!$E$7) -> 92000 | AM6: =AL6 -> 92000 | AN6: =AM6 -> 92000 | AO6: =AN6 -> 92000 | AP6: =AO6 -> 92000 | AQ6: =AP6 -> 92000 | AR6: =AQ6 -> 92000 | AS6: =AR6 -> 92000 | AT6: =AS6 -> 92000 | ... AW6: =AV6 -> 92000 | AX6: =AW6*(1+Assumptions!$F$7) -> 184000 | AY6: =AX6 -> 184000 | AZ6: =AY6 -> 184000 | BA6: =AZ6 -> 184000 | BB6: =BA6 -> 184000 | BC6: =BB6 -> 184000 | BD6: =BC6 -> 184000 | BE6: =BD6 -> 184000 | BF6: =BE6 -> 184000 | ... BI6: =BH6 -> 184000
A7: =Assumptions!A71 -> Insurance & Security | B7: =Assumptions!B71 -> 8000 | C7: =B7 -> 8000 | D7: =C7 -> 8000 | E7: =D7 -> 8000 | F7: =E7 -> 8000 | G7: =F7 -> 8000 | H7: =G7 -> 8000 | I7: =H7 -> 8000 | J7: =I7 -> 8000 | ... M7: =L7 -> 8000 | N7: =M7*(1+Assumptions!$C$7) -> 16000 | O7: =N7 -> 16000 | P7: =O7 -> 16000 | Q7: =P7 -> 16000 | R7: =Q7 -> 16000 | S7: =R7 -> 16000 | T7: =S7 -> 16000 | U7: =T7 -> 16000 | V7: =U7 -> 16000 | ... Y7: =X7 -> 16000 | Z7: =Y7*(1+Assumptions!$D$7) -> 32000 | AA7: =Z7 -> 32000 | AB7: =AA7 -> 32000 | AC7: =AB7 -> 32000 | AD7: =AC7 -> 32000 | AE7: =AD7 -> 32000 | AF7: =AE7 -> 32000 | AG7: =AF7 -> 32000 | AH7: =AG7 -> 32000 | ... AK7: =AJ7 -> 32000 | AL7: =AK7*(1+Assumptions!$E$7) -> 64000 | AM7: =AL7 -> 64000 | AN7: =AM7 -> 64000 | AO7: =AN7 -> 64000 | AP7: =AO7 -> 64000 | AQ7: =AP7 -> 64000 | AR7: =AQ7 -> 64000 | AS7: =AR7 -> 64000 | AT7: =AS7 -> 64000 | ... AW7: =AV7 -> 64000 | AX7: =AW7*(1+Assumptions!$F$7) -> 128000 | AY7: =AX7 -> 128000 | AZ7: =AY7 -> 128000 | BA7: =AZ7 -> 128000 | BB7: =BA7 -> 128000 | BC7: =BB7 -> 128000 | BD7: =BC7 -> 128000 | BE7: =BD7 -> 128000 | BF7: =BE7 -> 128000 | ... BI7: =BH7 -> 128000
